BEGIN:VCALENDAR
VERSION:2.0
PRODID:-//City of Miller - ECPv6.14.0//NONSGML v1.0//EN
CALSCALE:GREGORIAN
METHOD:PUBLISH
X-ORIGINAL-URL:https://cityofmillersd.com
X-WR-CALDESC:Events for City of Miller
REFRESH-INTERVAL;VALUE=DURATION:PT1H
X-Robots-Tag:noindex
X-PUBLISHED-TTL:PT1H
BEGIN:VTIMEZONE
TZID:America/Chicago
BEGIN:DAYLIGHT
TZOFFSETFROM:-0600
TZOFFSETTO:-0500
TZNAME:CDT
DTSTART:20250309T080000
END:DAYLIGHT
BEGIN:STANDARD
TZOFFSETFROM:-0500
TZOFFSETTO:-0600
TZNAME:CST
DTSTART:20251102T070000
END:STANDARD
END:VTIMEZONE
BEGIN:VEVENT
DTSTART;TZID=America/Chicago:20251201T190000
DTEND;TZID=America/Chicago:20251201T200000
DTSTAMP:20260425T144947
CREATED:20250718T141428Z
LAST-MODIFIED:20251128T161800Z
UID:10000018-1764615600-1764619200@cityofmillersd.com
SUMMARY:City Council Meeting
DESCRIPTION:Dec 01\, 2025 Agenda Regular Session
URL:https://cityofmillersd.com/event/city-council-meeting-10/
END:VEVENT
BEGIN:VEVENT
DTSTART;TZID=America/Chicago:20251216T190000
DTEND;TZID=America/Chicago:20251216T200000
DTSTAMP:20260425T144947
CREATED:20250718T142223Z
LAST-MODIFIED:20251215T220859Z
UID:10000019-1765911600-1765915200@cityofmillersd.com
SUMMARY:City Council Meeting
DESCRIPTION:Dec 16\, 2025 agenda Regular Session
URL:https://cityofmillersd.com/event/city-council-meeting-11/
END:VEVENT
BEGIN:VEVENT
DTSTART;VALUE=DATE:20251224
DTEND;VALUE=DATE:20251226
DTSTAMP:20260425T144947
CREATED:20250718T135549Z
LAST-MODIFIED:20250718T135549Z
UID:10000010-1766534400-1766707199@cityofmillersd.com
SUMMARY:Offices Closed for Christmas
DESCRIPTION:
URL:https://cityofmillersd.com/event/offices-closed-for-christmas/
END:VEVENT
BEGIN:VEVENT
DTSTART;TZID=America/Chicago:20251230T080000
DTEND;TZID=America/Chicago:20251230T083000
DTSTAMP:20260425T144947
CREATED:20251222T165923Z
LAST-MODIFIED:20251226T213600Z
UID:10000020-1767081600-1767083400@cityofmillersd.com
SUMMARY:End of year - Special Meeting
DESCRIPTION:Dec 30\, 2025 End of year – Special Meeting
URL:https://cityofmillersd.com/event/city-council-meeting-12/
END:VEVENT
END:VCALENDAR