BEGIN:VCALENDAR
VERSION:2.0
PRODID:-//City of Miller - ECPv6.14.0//NONSGML v1.0//EN
CALSCALE:GREGORIAN
METHOD:PUBLISH
X-WR-CALNAME:City of Miller
X-ORIGINAL-URL:https://cityofmillersd.com
X-WR-CALDESC:Events for City of Miller
REFRESH-INTERVAL;VALUE=DURATION:PT1H
X-Robots-Tag:noindex
X-PUBLISHED-TTL:PT1H
BEGIN:VTIMEZONE
TZID:America/Chicago
BEGIN:DAYLIGHT
TZOFFSETFROM:-0600
TZOFFSETTO:-0500
TZNAME:CDT
DTSTART:20260308T080000
END:DAYLIGHT
BEGIN:STANDARD
TZOFFSETFROM:-0500
TZOFFSETTO:-0600
TZNAME:CST
DTSTART:20261101T070000
END:STANDARD
END:VTIMEZONE
BEGIN:VEVENT
DTSTART;VALUE=DATE:20260101
DTEND;VALUE=DATE:20260102
DTSTAMP:20260425T131321
CREATED:20250718T135636Z
LAST-MODIFIED:20250718T135636Z
UID:10000011-1767225600-1767311999@cityofmillersd.com
SUMMARY:Offices Closed for New Year's Day
DESCRIPTION:
URL:https://cityofmillersd.com/event/offices-closed-for-new-years-day/
END:VEVENT
BEGIN:VEVENT
DTSTART;TZID=America/Chicago:20260105T190000
DTEND;TZID=America/Chicago:20260105T200000
DTSTAMP:20260425T131321
CREATED:20260102T214955Z
LAST-MODIFIED:20260102T225634Z
UID:10000021-1767639600-1767643200@cityofmillersd.com
SUMMARY:City Council Meeting
DESCRIPTION:Jan 05\, 2026 agenda Regular Session
URL:https://cityofmillersd.com/event/city-council-meeting-13/
END:VEVENT
BEGIN:VEVENT
DTSTART;TZID=America/Chicago:20260120T190000
DTEND;TZID=America/Chicago:20260120T200000
DTSTAMP:20260425T131321
CREATED:20260102T215050Z
LAST-MODIFIED:20260116T220611Z
UID:10000022-1768935600-1768939200@cityofmillersd.com
SUMMARY:City Council Meeting
DESCRIPTION:Jan 20\, 2026 agenda Regular Session
URL:https://cityofmillersd.com/event/city-council-meeting-14/
END:VEVENT
END:VCALENDAR